BEGIN:VCALENDAR
VERSION:2.0
PRODID:SchoolNow
CALSCALE:GREGORIAN
BEGIN:VEVENT
UID:672f6a78-98e7-11f0-b105-0a58a9feac02
DTSTAMP:20260421T073012Z
SUMMARY:Homework Club
URL;VALUE=URI:https://www.tusd.org/schools/madrona/calendar/8658063/homewor
 k-club
DTSTART:20260302T233000Z
DTEND:20260303T003000Z
END:VEVENT
END:VCALENDAR
