BEGIN:VCALENDAR
VERSION:2.0
PRODID:SchoolNow
CALSCALE:GREGORIAN
BEGIN:VEVENT
UID:fffbd006-94ec-11f0-a7d1-0a58a9feac02
DTSTAMP:20260421T133515Z
SUMMARY:Student Last Day of School
URL;VALUE=URI:https://www.tusd.org/schools/madrona/calendar/8639484/student
 -last-day-of-school
DTSTART;VALUE=DATE:20260611
DTEND;VALUE=DATE:20260612
END:VEVENT
END:VCALENDAR
