BEGIN:VCALENDAR
VERSION:2.0
PRODID:SchoolNow
CALSCALE:GREGORIAN
BEGIN:VEVENT
UID:0350d7de-94ba-11f0-b331-02b47b9e6633
DTSTAMP:20260422T014512Z
SUMMARY:Late Start -9:25
URL;VALUE=URI:https://www.tusd.org/schools/madrona/calendar/8637103/late-st
 art-9-25
DTSTART;VALUE=DATE:20270518
DTEND;VALUE=DATE:20270519
END:VEVENT
END:VCALENDAR
