BEGIN:VCALENDAR
VERSION:2.0
PRODID:SchoolNow
CALSCALE:GREGORIAN
BEGIN:VEVENT
UID:03114eac-94ba-11f0-a358-02b47b9e6633
DTSTAMP:20260421T133515Z
SUMMARY:Wellness Wednesday! with Ms. Haywood @Nielsen Lawn
URL;VALUE=URI:https://www.tusd.org/schools/madrona/calendar/8637101/wellnes
 s-wednesday-with-ms-haywood-nielsen-lawn
DTSTART:20260218T204900Z
DTEND:20260218T213000Z
END:VEVENT
END:VCALENDAR
