BEGIN:VCALENDAR
VERSION:2.0
PRODID:SchoolNow
CALSCALE:GREGORIAN
BEGIN:VEVENT
UID:0bdf3d8c-9258-11f0-83cc-0eeb209893e3
DTSTAMP:20260422T014512Z
SUMMARY:Late Start -9:25
URL;VALUE=URI:https://www.tusd.org/schools/madrona/calendar/8624723/late-st
 art-9-25
DTSTART;VALUE=DATE:20270309
DTEND;VALUE=DATE:20270310
END:VEVENT
END:VCALENDAR
