BEGIN:VCALENDAR
VERSION:2.0
PRODID:SchoolNow
CALSCALE:GREGORIAN
BEGIN:VEVENT
UID:0bdf379c-9258-11f0-90b4-0eeb209893e3
DTSTAMP:20260421T194014Z
SUMMARY:Late Start -9:25
URL;VALUE=URI:https://www.tusd.org/schools/madrona/calendar/8624716/late-st
 art-9-25
DTSTART;VALUE=DATE:20270119
DTEND;VALUE=DATE:20270120
END:VEVENT
END:VCALENDAR
