BEGIN:VCALENDAR
VERSION:2.0
PRODID:SchoolNow
CALSCALE:GREGORIAN
BEGIN:VEVENT
UID:0bdf2f22-9258-11f0-b593-0eeb209893e3
DTSTAMP:20260421T194014Z
SUMMARY:Late Start -9:25
URL;VALUE=URI:https://www.tusd.org/schools/madrona/calendar/8624706/late-st
 art-9-25
DTSTART;VALUE=DATE:20261110
DTEND;VALUE=DATE:20261111
END:VEVENT
END:VCALENDAR
