BEGIN:VCALENDAR
VERSION:2.0
PRODID:SchoolNow
CALSCALE:GREGORIAN
BEGIN:VEVENT
UID:0bdf2c98-9258-11f0-b118-0eeb209893e3
DTSTAMP:20260421T133515Z
SUMMARY:Late Start -9:25
URL;VALUE=URI:https://www.tusd.org/schools/madrona/calendar/8624703/late-st
 art-9-25
DTSTART;VALUE=DATE:20261020
DTEND;VALUE=DATE:20261021
END:VEVENT
END:VCALENDAR
