BEGIN:VCALENDAR
VERSION:2.0
PRODID:SchoolNow
CALSCALE:GREGORIAN
BEGIN:VEVENT
UID:0bdf2a04-9258-11f0-a52c-0eeb209893e3
DTSTAMP:20260421T133515Z
SUMMARY:Late Start -9:25
URL;VALUE=URI:https://www.tusd.org/schools/madrona/calendar/8624700/late-st
 art-9-25
DTSTART;VALUE=DATE:20260929
DTEND;VALUE=DATE:20260930
END:VEVENT
END:VCALENDAR
