BEGIN:VCALENDAR
VERSION:2.0
PRODID:SchoolNow
CALSCALE:GREGORIAN
BEGIN:VEVENT
UID:0b83d9c4-9258-11f0-bf0c-0eeb209893e3
DTSTAMP:20260422T014512Z
SUMMARY:National Paraprofessional Day
URL;VALUE=URI:https://www.tusd.org/schools/madrona/calendar/8624636/nationa
 l-paraprofessional-day
DTSTART;VALUE=DATE:20270403
DTEND;VALUE=DATE:20270404
END:VEVENT
END:VCALENDAR
