BEGIN:VCALENDAR
VERSION:2.0
PRODID:SchoolNow
CALSCALE:GREGORIAN
BEGIN:VEVENT
UID:0b83d870-9258-11f0-92fd-0eeb209893e3
DTSTAMP:20260421T073012Z
SUMMARY:National Paraprofessional Day
URL;VALUE=URI:https://www.tusd.org/schools/madrona/calendar/8624635/nationa
 l-paraprofessional-day
DTSTART;VALUE=DATE:20260403
DTEND;VALUE=DATE:20260404
END:VEVENT
END:VCALENDAR
