BEGIN:VCALENDAR
VERSION:2.0
PRODID:SchoolNow
CALSCALE:GREGORIAN
BEGIN:VEVENT
UID:0b83d6d6-9258-11f0-868f-0eeb209893e3
DTSTAMP:20260422T014512Z
SUMMARY:National Librarian Day
URL;VALUE=URI:https://www.tusd.org/schools/madrona/calendar/8624634/nationa
 l-librarian-day
DTSTART;VALUE=DATE:20270404
DTEND;VALUE=DATE:20270405
END:VEVENT
END:VCALENDAR
