BEGIN:VCALENDAR
VERSION:2.0
PRODID:SchoolNow
CALSCALE:GREGORIAN
BEGIN:VEVENT
UID:0b83d5fa-9258-11f0-b191-0eeb209893e3
DTSTAMP:20260421T073012Z
SUMMARY:National Librarian Day
URL;VALUE=URI:https://www.tusd.org/schools/madrona/calendar/8624633/nationa
 l-librarian-day
DTSTART;VALUE=DATE:20260404
DTEND;VALUE=DATE:20260405
END:VEVENT
END:VCALENDAR
