BEGIN:VCALENDAR
VERSION:2.0
PRODID:SchoolNow
CALSCALE:GREGORIAN
BEGIN:VEVENT
UID:0b83cd4e-9258-11f0-a6b6-0eeb209893e3
DTSTAMP:20260421T073012Z
SUMMARY:ELMAC Mtg
URL;VALUE=URI:https://www.tusd.org/schools/madrona/calendar/8624623/elmac-m
 tg
DTSTART:20260414T214500Z
DTEND:20260414T224500Z
END:VEVENT
END:VCALENDAR
