BEGIN:VCALENDAR
VERSION:2.0
PRODID:SchoolNow
CALSCALE:GREGORIAN
BEGIN:VEVENT
UID:0b83cc72-9258-11f0-91a1-0eeb209893e3
DTSTAMP:20260421T133515Z
SUMMARY:ELMAC Mtg
URL;VALUE=URI:https://www.tusd.org/schools/madrona/calendar/8624622/elmac-m
 tg
DTSTART:20260203T224500Z
DTEND:20260203T234500Z
END:VEVENT
END:VCALENDAR
