BEGIN:VCALENDAR
VERSION:2.0
PRODID:SchoolNow
CALSCALE:GREGORIAN
BEGIN:VEVENT
UID:0b83c740-9258-11f0-810d-0eeb209893e3
DTSTAMP:20260421T073012Z
SUMMARY:Madrona Open House (PTSA 4:30/Cafe\, 4:45/Classroom Visit)
URL;VALUE=URI:https://www.tusd.org/schools/madrona/calendar/8624616/madrona
 -open-house-ptsa-4-30-cafe-4-45-classroom-visit
DTSTART:20260505T233000Z
DTEND:20260506T011500Z
END:VEVENT
END:VCALENDAR
