BEGIN:VCALENDAR
VERSION:2.0
PRODID:SchoolNow
CALSCALE:GREGORIAN
BEGIN:VEVENT
UID:0b83c66e-9258-11f0-b559-0eeb209893e3
DTSTAMP:20260421T073012Z
SUMMARY:Late Start (due to Open House)
URL;VALUE=URI:https://www.tusd.org/schools/madrona/calendar/8624615/late-st
 art-due-to-open-house
DTSTART;VALUE=DATE:20260506
DTEND;VALUE=DATE:20260507
END:VEVENT
END:VCALENDAR
