BEGIN:VCALENDAR
VERSION:2.0
PRODID:SchoolNow
CALSCALE:GREGORIAN
BEGIN:VEVENT
UID:0b83c222-9258-11f0-aa87-0eeb209893e3
DTSTAMP:20260421T073012Z
SUMMARY:School Site Council
LOCATION:https://tusd-org.zoom.us/j/89864350062?pwd=lukVQrBY53V2s5dNMN1c2cD
 KKZooGi.1
URL;VALUE=URI:https://www.tusd.org/schools/madrona/calendar/8624610/school-
 site-council
DTSTART:20260428T223000Z
DTEND:20260428T233000Z
END:VEVENT
END:VCALENDAR
