BEGIN:VCALENDAR
VERSION:2.0
PRODID:SchoolNow
CALSCALE:GREGORIAN
BEGIN:VEVENT
UID:0b83ae4a-9258-11f0-a57a-0eeb209893e3
DTSTAMP:20260421T073012Z
SUMMARY:TUSD 8th-grade Dental Screening @Madrona / PE classes
URL;VALUE=URI:https://www.tusd.org/schools/madrona/calendar/8624587/tusd-8t
 h-grade-dental-screening-madrona-pe-classes
DTSTART;VALUE=DATE:20260421
DTEND;VALUE=DATE:20260422
END:VEVENT
END:VCALENDAR
