BEGIN:VCALENDAR
VERSION:2.0
PRODID:SchoolNow
CALSCALE:GREGORIAN
BEGIN:VEVENT
UID:0b83ad6e-9258-11f0-80d6-0eeb209893e3
DTSTAMP:20260421T073012Z
SUMMARY:SPRING BREAK
URL;VALUE=URI:https://www.tusd.org/schools/madrona/calendar/8624586/spring-
 break
DTSTART;VALUE=DATE:20260330
DTEND;VALUE=DATE:20260404
END:VEVENT
END:VCALENDAR
