BEGIN:VCALENDAR
VERSION:2.0
PRODID:SchoolNow
CALSCALE:GREGORIAN
BEGIN:VEVENT
UID:0b83a210-9258-11f0-8907-0eeb209893e3
DTSTAMP:20260421T073012Z
SUMMARY:8th-grade Promotion Picture Day
URL;VALUE=URI:https://www.tusd.org/schools/madrona/calendar/8624573/8th-gra
 de-promotion-picture-day
DTSTART;VALUE=DATE:20260319
DTEND;VALUE=DATE:20260320
END:VEVENT
END:VCALENDAR
