BEGIN:VCALENDAR
VERSION:2.0
PRODID:SchoolNow
CALSCALE:GREGORIAN
BEGIN:VEVENT
UID:49941a86-0c80-11ee-913b-02aacb1b1b65
DTSTAMP:20230616T195922Z
SUMMARY:Staff Development Day/Student Free Days (K-12) - No School
URL;VALUE=URI:https://www.tusd.org/schools/lincoln/lincoln-old/calendar/439
 9492/staff-development-day-student-free-days-k-12-no-school
DTSTART;VALUE=DATE:20230823
DTEND;VALUE=DATE:20230824
END:VEVENT
END:VCALENDAR
