BEGIN:VCALENDAR
VERSION:2.0
PRODID:SchoolNow
CALSCALE:GREGORIAN
BEGIN:VEVENT
UID:37c561f2-0c80-11ee-84d7-02aacb1b1b65
DTSTAMP:20230616T195852Z
SUMMARY:Staff Development Day/Student Free Days (K-12) - No School
URL;VALUE=URI:https://www.tusd.org/schools/lincoln/lincoln-old/calendar/439
 9491/staff-development-day-student-free-days-k-12-no-school
DTSTART;VALUE=DATE:20230822
DTEND;VALUE=DATE:20230823
END:VEVENT
END:VCALENDAR
