BEGIN:VCALENDAR
VERSION:2.0
PRODID:SchoolNow
CALSCALE:GREGORIAN
BEGIN:VEVENT
UID:35a3fc5e-0c7f-11ee-a780-02aacb1b1b65
DTSTAMP:20230616T195139Z
SUMMARY:First Day of School 2023-2024  (Teachers Report)
URL;VALUE=URI:https://www.tusd.org/schools/lincoln/lincoln-old/calendar/439
 9480/first-day-of-school-2023-2024-teachers-report
DTSTART;VALUE=DATE:20230822
DTEND;VALUE=DATE:20230823
END:VEVENT
END:VCALENDAR
