BEGIN:VCALENDAR
VERSION:2.0
PRODID:SchoolNow
CALSCALE:GREGORIAN
BEGIN:VEVENT
UID:100337a8-0c7f-11ee-8f35-02aacb1b1b65
DTSTAMP:20230616T195036Z
SUMMARY:Independence Day
URL;VALUE=URI:https://www.tusd.org/schools/lincoln/lincoln-old/calendar/439
 9479/independence-day
DTSTART;VALUE=DATE:20230704
DTEND;VALUE=DATE:20230705
END:VEVENT
END:VCALENDAR
