BEGIN:VCALENDAR
VERSION:2.0
PRODID:SchoolNow
CALSCALE:GREGORIAN
BEGIN:VEVENT
UID:185d436e-7d7b-11ed-bb92-0e54a5448921
DTSTAMP:20221216T195216Z
SUMMARY:1st day back from Winter Break
URL;VALUE=URI:https://www.tusd.org/schools/lincoln/lincoln-old/calendar/364
 6098/1st-day-back-from-winter-break
DTSTART;VALUE=DATE:20230103
DTEND;VALUE=DATE:20230104
END:VEVENT
END:VCALENDAR
