BEGIN:VCALENDAR
VERSION:2.0
PRODID:SchoolNow
CALSCALE:GREGORIAN
BEGIN:VEVENT
UID:c5e3f934-7d7a-11ed-bc62-0e54a5448921
DTSTAMP:20221216T194937Z
SUMMARY:Winter Break: 12/19/22 to 01/02/22
URL;VALUE=URI:https://www.tusd.org/schools/lincoln/lincoln-old/calendar/364
 6097/winter-break-12-19-22-to-01-02-22
DTSTART;VALUE=DATE:20221219
DTEND;VALUE=DATE:20230103
END:VEVENT
END:VCALENDAR
