BEGIN:VCALENDAR
VERSION:2.0
PRODID:SchoolNow
CALSCALE:GREGORIAN
BEGIN:VEVENT
UID:c26f0cbe-5ea6-11ed-9ca8-0a4fdaf9ac37
DTSTAMP:20221107T141623Z
SUMMARY:Veterans Day - School Closed
URL;VALUE=URI:https://www.tusd.org/schools/lincoln/lincoln-old/calendar/359
 3977/veterans-day-school-closed
DTSTART;VALUE=DATE:20221111
DTEND;VALUE=DATE:20221112
END:VEVENT
END:VCALENDAR
