BEGIN:VCALENDAR
VERSION:2.0
PRODID:SchoolNow
CALSCALE:GREGORIAN
BEGIN:VEVENT
UID:35665b6e-54cf-11ed-a2f2-0e0f0c024b29
DTSTAMP:20221026T014044Z
SUMMARY:Movie Under the Stars @ Lincoln -Disney's Encanto
URL;VALUE=URI:https://www.tusd.org/schools/lincoln/lincoln-old/calendar/356
 0836/movie-under-the-stars-lincoln-disneys-encanto
DTSTART:20221119T013000Z
DTEND:20221119T043000Z
ATTACH;FILENAME=Movie Night 2022.pdf;FMTTYPE=application/pdf:https://campus
 suite-storage.s3.amazonaws.com/prod/484005/2752018e-59b7-11e6-943a-22000bd
 8490f/2497674/29b8c978-54cf-11ed-9c8e-0e0f0c024b29/file/Movie Night 2022.p
 df
END:VEVENT
END:VCALENDAR
