BEGIN:VCALENDAR
VERSION:2.0
PRODID:SchoolNow
CALSCALE:GREGORIAN
BEGIN:VEVENT
UID:12d539d0-4c1e-11ed-a388-0a75f403792f
DTSTAMP:20221015T001236Z
SUMMARY:School Site Council Meeting
URL;VALUE=URI:https://www.tusd.org/schools/lincoln/lincoln-old/calendar/352
 2264/school-site-council-meeting
DTSTART;VALUE=DATE:20230124
DTEND;VALUE=DATE:20230125
END:VEVENT
END:VCALENDAR
