BEGIN:VCALENDAR
VERSION:2.0
PRODID:SchoolNow
CALSCALE:GREGORIAN
BEGIN:VEVENT
UID:07da4d90-4c1e-11ed-a77c-0a75f403792f
DTSTAMP:20221015T001218Z
SUMMARY:School Site Council Meeting
URL;VALUE=URI:https://www.tusd.org/schools/lincoln/lincoln-old/calendar/352
 2263/school-site-council-meeting
DTSTART;VALUE=DATE:20221115
DTEND;VALUE=DATE:20221116
END:VEVENT
END:VCALENDAR
