BEGIN:VCALENDAR
VERSION:2.0
PRODID:SchoolNow
CALSCALE:GREGORIAN
BEGIN:VEVENT
UID:85bf923e-4c1d-11ed-a640-0a75f403792f
DTSTAMP:20221207T205505Z
SUMMARY:Winter Book Fair (Dec 12th-16th)
URL;VALUE=URI:https://www.tusd.org/schools/lincoln/lincoln-old/calendar/352
 2258/winter-book-fair
DTSTART;VALUE=DATE:20221212
DTEND;VALUE=DATE:20221217
ATTACH;FILENAME=book fair flyer 2.pdf;FMTTYPE=application/pdf:https://campu
 ssuite-storage.s3.amazonaws.com/prod/484005/2752018e-59b7-11e6-943a-22000b
 d8490f/2522430/69103232-7671-11ed-a596-0ef147ed293d/file/book fair flyer 2
 .pdf
END:VEVENT
END:VCALENDAR
