BEGIN:VCALENDAR
VERSION:2.0
PRODID:SchoolNow
CALSCALE:GREGORIAN
BEGIN:VEVENT
UID:cb50e510-4c1c-11ed-b46a-0a75f403792f
DTSTAMP:20221207T210032Z
SUMMARY:PTA Association Meeting/ Winter Jubilee
URL;VALUE=URI:https://www.tusd.org/schools/lincoln/lincoln-old/calendar/352
 2247/pta-association-meeting-winter-jubilee
DTSTART;VALUE=DATE:20221215
DTEND;VALUE=DATE:20221216
ATTACH;FILENAME=Winter jubliee 2022.pdf;FMTTYPE=application/pdf:https://cam
 pussuite-storage.s3.amazonaws.com/prod/484005/2752018e-59b7-11e6-943a-2200
 0bd8490f/2522429/4b7f109e-7671-11ed-9aa1-0ef147ed293d/file/Winter jubliee 
 2022.pdf
END:VEVENT
END:VCALENDAR
