BEGIN:VCALENDAR
VERSION:2.0
PRODID:SchoolNow
CALSCALE:GREGORIAN
BEGIN:VEVENT
UID:ad406c58-4c1c-11ed-a549-0a75f403792f
DTSTAMP:20221015T000236Z
SUMMARY:PTA Board Meeting (In & Out/Dinner)
URL;VALUE=URI:https://www.tusd.org/schools/lincoln/lincoln-old/calendar/352
 2246/pta-board-meeting-in-out-dinner
DTSTART;VALUE=DATE:20230608
DTEND;VALUE=DATE:20230609
END:VEVENT
END:VCALENDAR
