BEGIN:VCALENDAR
VERSION:2.0
PRODID:SchoolNow
CALSCALE:GREGORIAN
BEGIN:VEVENT
UID:407591fc-4c1c-11ed-9ef2-0a75f403792f
DTSTAMP:20221014T235934Z
SUMMARY:PTA Board Meeting
URL;VALUE=URI:https://www.tusd.org/schools/lincoln/lincoln-old/calendar/352
 2239/pta-board-meeting
DTSTART;VALUE=DATE:20230105
DTEND;VALUE=DATE:20230106
END:VEVENT
END:VCALENDAR
