BEGIN:VCALENDAR
VERSION:2.0
PRODID:SchoolNow
CALSCALE:GREGORIAN
BEGIN:VEVENT
UID:31b1fab6-4c1c-11ed-8185-0a75f403792f
DTSTAMP:20221014T235909Z
SUMMARY:PTA Board Meeting (Holiday Dinner)
URL;VALUE=URI:https://www.tusd.org/schools/lincoln/lincoln-old/calendar/352
 2238/pta-board-meeting-holiday-dinner
DTSTART;VALUE=DATE:20221201
DTEND;VALUE=DATE:20221202
END:VEVENT
END:VCALENDAR
