BEGIN:VCALENDAR
VERSION:2.0
PRODID:SchoolNow
CALSCALE:GREGORIAN
BEGIN:VEVENT
UID:22a3174e-4c1c-11ed-85d3-0a75f403792f
DTSTAMP:20221014T235844Z
SUMMARY:PTA Board Meeting
URL;VALUE=URI:https://www.tusd.org/schools/lincoln/lincoln-old/calendar/352
 2237/pta-board-meeting
DTSTART;VALUE=DATE:20221103
DTEND;VALUE=DATE:20221104
END:VEVENT
END:VCALENDAR
