BEGIN:VCALENDAR
VERSION:2.0
PRODID:SchoolNow
CALSCALE:GREGORIAN
BEGIN:VEVENT
UID:c7c8c01c-4c1b-11ed-90d5-0a75f403792f
DTSTAMP:20221014T235611Z
SUMMARY:Halloween Parade
URL;VALUE=URI:https://www.tusd.org/schools/lincoln/lincoln-old/calendar/352
 2234/halloween-parade
DTSTART;VALUE=DATE:20221031
DTEND;VALUE=DATE:20221101
END:VEVENT
END:VCALENDAR
