BEGIN:VCALENDAR
VERSION:2.0
PRODID:SchoolNow
CALSCALE:GREGORIAN
BEGIN:VEVENT
UID:b4c80388-4c1b-11ed-ad28-0a75f403792f
DTSTAMP:20221014T235539Z
SUMMARY:Astronomical Night
URL;VALUE=URI:https://www.tusd.org/schools/lincoln/lincoln-old/calendar/352
 2233/astronomical-night
DTSTART;VALUE=DATE:20221028
DTEND;VALUE=DATE:20221029
END:VEVENT
END:VCALENDAR
