BEGIN:VCALENDAR
VERSION:2.0
PRODID:SchoolNow
CALSCALE:GREGORIAN
BEGIN:VEVENT
UID:9bded96e-4c1b-11ed-a385-0a75f403792f
DTSTAMP:20221014T235458Z
SUMMARY:Bingo Night
URL;VALUE=URI:https://www.tusd.org/schools/lincoln/lincoln-old/calendar/352
 2232/bingo-night
DTSTART;VALUE=DATE:20221020
DTEND;VALUE=DATE:20221021
END:VEVENT
END:VCALENDAR
