BEGIN:VCALENDAR
VERSION:2.0
PRODID:SchoolNow
CALSCALE:GREGORIAN
BEGIN:VEVENT
UID:5edfd42c-40dc-11ed-9fe8-0e7a3c972c67
DTSTAMP:20220930T162434Z
SUMMARY:Chipotle Fundraiser
LOCATION:1755 W ARTESIA BLVD\, GARDENA\, CA\, 90248
URL;VALUE=URI:https://www.tusd.org/schools/lincoln/lincoln-old/calendar/346
 4966/chipotle-fundraiser
DTSTART;VALUE=DATE:20221115
DTEND;VALUE=DATE:20221116
ATTACH;FILENAME=403946-flyer.jpg;FMTTYPE=image/jpeg:https://campussuite-sto
 rage.s3.amazonaws.com/prod/484005/2752018e-59b7-11e6-943a-22000bd8490f/248
 5289/3cc027a2-40dc-11ed-81aa-0e7a3c972c67/file/403946-flyer.jpg
END:VEVENT
END:VCALENDAR
