BEGIN:VCALENDAR
VERSION:2.0
PRODID:SchoolNow
CALSCALE:GREGORIAN
BEGIN:VEVENT
UID:390c847a-2ee4-11ed-9df8-0aca6efa4331
DTSTAMP:20220921T174551Z
SUMMARY:Back to School Night
URL;VALUE=URI:https://www.tusd.org/schools/lincoln/lincoln-old/calendar/335
 8129/back-to-school-night
DTSTART:20220922T193400Z
DTEND:20220922T203400Z
END:VEVENT
END:VCALENDAR
