BEGIN:VCALENDAR
VERSION:2.0
PRODID:SchoolNow
CALSCALE:GREGORIAN
BEGIN:VEVENT
UID:f66d313c-2e0c-11ed-9ddd-0e24e51fc665
DTSTAMP:20220906T175432Z
SUMMARY:The Great California ShakeOut (Districtwide)
URL;VALUE=URI:https://www.tusd.org/schools/lincoln/lincoln-old/calendar/335
 1556/the-great-california-shakeout-districtwide
DTSTART:20221020T172000Z
DTEND:20221020T182000Z
END:VEVENT
END:VCALENDAR
