BEGIN:VCALENDAR
VERSION:2.0
PRODID:SchoolNow
CALSCALE:GREGORIAN
BEGIN:VEVENT
UID:38d68e50-295e-11ed-ba4c-024b850ef945
DTSTAMP:20220831T185404Z
SUMMARY:Labor Day - No School
URL;VALUE=URI:https://www.tusd.org/schools/lincoln/lincoln-old/calendar/332
 3749/labor-day-no-school
DTSTART;VALUE=DATE:20220905
DTEND;VALUE=DATE:20220906
END:VEVENT
END:VCALENDAR
