BEGIN:VCALENDAR
VERSION:2.0
PRODID:SchoolNow
CALSCALE:GREGORIAN
BEGIN:VEVENT
UID:620b26c0-2240-11ed-92d1-0aac5e5fbd3d
DTSTAMP:20220822T173223Z
SUMMARY:Pop-Into-School Event (4pm-6pm)
URL;VALUE=URI:https://www.tusd.org/schools/lincoln/lincoln-old/calendar/329
 4947/pop-into-school-event-4pm-6pm
DTSTART:20220824T230000Z
DTEND:20220825T010000Z
ATTACH;FILENAME=Pop Into School Event Flyer.pdf;FMTTYPE=application/pdf:htt
 ps://campussuite-storage.s3.amazonaws.com/prod/484005/2752018e-59b7-11e6-9
 43a-22000bd8490f/2464688/0fdccd22-2240-11ed-b759-0e487d431323/file/Pop Int
 o School Event Flyer.pdf
END:VEVENT
END:VCALENDAR
