BEGIN:VCALENDAR
VERSION:2.0
PRODID:SchoolNow
CALSCALE:GREGORIAN
BEGIN:VEVENT
UID:c1a21e7a-1847-11ed-b4fc-02394a6d554d
DTSTAMP:20220810T010115Z
SUMMARY:Back to School: COVID-19 Test Kit Distribution August 19\,22\,23 & 
 24
URL;VALUE=URI:https://www.tusd.org/schools/lincoln/lincoln-old/calendar/327
 5645/back-to-school-covid-19-test-kit-distribution-august-19-22-23-24-clon
 e
DTSTART:20220822T125300Z
DTEND:20220824T135300Z
END:VEVENT
END:VCALENDAR
