BEGIN:VCALENDAR
VERSION:2.0
PRODID:SchoolNow
CALSCALE:GREGORIAN
BEGIN:VEVENT
UID:c815a960-fa16-11ec-b846-02a5a969191b
DTSTAMP:20221003T170911Z
SUMMARY:Non-Teaching Days/ Student Free Day
URL;VALUE=URI:https://www.tusd.org/schools/lincoln/lincoln-old/calendar/323
 6436/non-teaching-days-student-free-day
DTSTART;VALUE=DATE:20221005
DTEND;VALUE=DATE:20221006
END:VEVENT
END:VCALENDAR
