BEGIN:VCALENDAR
VERSION:2.0
PRODID:SchoolNow
CALSCALE:GREGORIAN
BEGIN:VEVENT
UID:97437484-fa16-11ec-8c5c-0a5c34d56f71
DTSTAMP:20220702T145227Z
SUMMARY:Achievement Reports
URL;VALUE=URI:https://www.tusd.org/schools/lincoln/lincoln-old/calendar/323
 6435/achievement-reports
DTSTART;VALUE=DATE:20230615
DTEND;VALUE=DATE:20230616
END:VEVENT
END:VCALENDAR
