BEGIN:VCALENDAR
VERSION:2.0
PRODID:SchoolNow
CALSCALE:GREGORIAN
BEGIN:VEVENT
UID:8e4cd8de-fa16-11ec-93a1-0a5c34d56f71
DTSTAMP:20220702T145212Z
SUMMARY:Achievement Reports
URL;VALUE=URI:https://www.tusd.org/schools/lincoln/lincoln-old/calendar/323
 6434/achievement-reports
DTSTART;VALUE=DATE:20230120
DTEND;VALUE=DATE:20230121
END:VEVENT
END:VCALENDAR
