BEGIN:VCALENDAR
VERSION:2.0
PRODID:SchoolNow
CALSCALE:GREGORIAN
BEGIN:VEVENT
UID:6a210bc4-fa16-11ec-bb5a-0a5c34d56f71
DTSTAMP:20220702T145111Z
SUMMARY:Progress Reports
URL;VALUE=URI:https://www.tusd.org/schools/lincoln/lincoln-old/calendar/323
 6432/progress-reports
DTSTART;VALUE=DATE:20221202
DTEND;VALUE=DATE:20221203
END:VEVENT
END:VCALENDAR
